Package: MSstatsBig Version: 1.4.0 Command: rm -rf MSstatsBig.buildbin-libdir && mkdir MSstatsBig.buildbin-libdir && /Users/biocbuild/BBS/utils/build-universal.sh MSstatsBig_1.4.0.tar.gz /Library/Frameworks/R.framework/Resources/bin/R MSstatsBig.buildbin-libdir StartedAt: 2025-04-01 12:19:07 -0400 (Tue, 01 Apr 2025) EndedAt: 2025-04-01 12:19:30 -0400 (Tue, 01 Apr 2025) EllapsedTime: 23.3 seconds RetCode: 0 Status: OK PackageFile: MSstatsBig_1.4.0.tgz PackageFileSize: 95.18 KiB