Package: MSstatsBig Version: 1.4.0 Command: /Library/Frameworks/R.framework/Resources/bin/R CMD INSTALL MSstatsBig StartedAt: 2025-03-31 17:13:36 -0400 (Mon, 31 Mar 2025) EndedAt: 2025-03-31 17:13:47 -0400 (Mon, 31 Mar 2025) EllapsedTime: 10.8 seconds RetCode: 0 Status: OK