Package: MSstats Version: 4.14.2 Command: /home/biocbuild/R/R/bin/R CMD build --keep-empty-dirs --no-resave-data MSstats StartedAt: 2025-04-01 01:01:27 -0000 (Tue, 01 Apr 2025) EndedAt: 2025-04-01 01:03:04 -0000 (Tue, 01 Apr 2025) EllapsedTime: 97.0 seconds RetCode: 0 Status: OK PackageFile: MSstats_4.14.2.tar.gz PackageFileSize: 303.2 KiB