Package: MSstats Version: 4.14.1 Command: rm -rf MSstats.buildbin-libdir && mkdir MSstats.buildbin-libdir && F:\biocbuild\bbs-3.20-bioc\R\bin\R.exe CMD INSTALL --build --library=MSstats.buildbin-libdir MSstats_4.14.1.tar.gz StartedAt: 2025-01-28 08:38:45 -0500 (Tue, 28 Jan 2025) EndedAt: 2025-01-28 08:40:12 -0500 (Tue, 28 Jan 2025) EllapsedTime: 87.3 seconds RetCode: 0 Status: OK PackageFile: MSstats_4.14.1.zip PackageFileSize: 1.099 MiB