Package: MSstats Version: 4.13.0 Command: rm -rf MSstats.buildbin-libdir && mkdir MSstats.buildbin-libdir && C:\Users\biocbuild\bbs-3.20-bioc\R\bin\R.exe CMD INSTALL --build --library=MSstats.buildbin-libdir MSstats_4.13.0.tar.gz StartedAt: 2024-07-16 06:28:49 -0400 (Tue, 16 Jul 2024) EndedAt: 2024-07-16 06:29:49 -0400 (Tue, 16 Jul 2024) EllapsedTime: 59.5 seconds RetCode: 0 Status: OK PackageFile: MSstats_4.13.0.zip PackageFileSize: 1.014 MiB