Package: MSstats Version: 4.14.1 Command: /home/biocbuild/bbs-3.20-bioc/R/bin/R CMD build --keep-empty-dirs --no-resave-data --md5 MSstats StartedAt: 2025-02-03 18:23:59 -0500 (Mon, 03 Feb 2025) EndedAt: 2025-02-03 18:25:08 -0500 (Mon, 03 Feb 2025) EllapsedTime: 69.1 seconds RetCode: 0 Status: OK PackageFile: MSstats_4.14.1.tar.gz PackageFileSize: 431.1 KiB