Package: MSstats Version: 4.14.1 Command: /Library/Frameworks/R.framework/Resources/bin/R CMD check --install=check:MSstats.install-out.txt --library=/Library/Frameworks/R.framework/Resources/library --no-vignettes --timings MSstats_4.14.1.tar.gz StartedAt: 2025-02-04 06:55:00 -0500 (Tue, 04 Feb 2025) EndedAt: 2025-02-04 06:59:34 -0500 (Tue, 04 Feb 2025) EllapsedTime: 274.3 seconds RetCode: 0 Status: WARNINGS CheckDir: MSstats.Rcheck Warnings: 1