Package: MSstats Version: 4.14.2 Command: /Library/Frameworks/R.framework/Resources/bin/R CMD INSTALL MSstats StartedAt: 2025-03-31 17:12:46 -0400 (Mon, 31 Mar 2025) EndedAt: 2025-03-31 17:13:27 -0400 (Mon, 31 Mar 2025) EllapsedTime: 40.6 seconds RetCode: 0 Status: OK