Package: MSstats Version: 4.14.2 Command: /Library/Frameworks/R.framework/Resources/bin/R CMD check --install=check:MSstats.install-out.txt --library=/Library/Frameworks/R.framework/Resources/library --no-vignettes --timings MSstats_4.14.2.tar.gz StartedAt: 2025-04-02 02:04:58 -0400 (Wed, 02 Apr 2025) EndedAt: 2025-04-02 02:07:10 -0400 (Wed, 02 Apr 2025) EllapsedTime: 132.7 seconds RetCode: 0 Status: WARNINGS CheckDir: MSstats.Rcheck Warnings: 2