Package: MSstats Version: 4.14.2 Command: rm -rf MSstats.buildbin-libdir && mkdir MSstats.buildbin-libdir && /Users/biocbuild/BBS/utils/build-universal.sh MSstats_4.14.2.tar.gz /Library/Frameworks/R.framework/Resources/bin/R MSstats.buildbin-libdir StartedAt: 2025-04-02 15:21:17 -0400 (Wed, 02 Apr 2025) EndedAt: 2025-04-02 15:22:04 -0400 (Wed, 02 Apr 2025) EllapsedTime: 46.6 seconds RetCode: 0 Status: OK PackageFile: MSstats_4.14.2.tgz PackageFileSize: 952.9 KiB