Package: MSnbase Version: 2.32.0 Command: F:\biocbuild\bbs-3.20-bioc\R\bin\R.exe CMD INSTALL MSnbase StartedAt: 2025-03-31 16:22:08 -0400 (Mon, 31 Mar 2025) EndedAt: 2025-03-31 16:25:42 -0400 (Mon, 31 Mar 2025) EllapsedTime: 213.9 seconds RetCode: 0 Status: OK