Package: MSnbase Version: 2.32.0 Command: chmod a+r MSnbase -R && F:\biocbuild\bbs-3.20-bioc\R\bin\R.exe CMD build --keep-empty-dirs --no-resave-data MSnbase StartedAt: 2025-03-31 20:24:19 -0400 (Mon, 31 Mar 2025) EndedAt: 2025-03-31 20:33:22 -0400 (Mon, 31 Mar 2025) EllapsedTime: 543.1 seconds RetCode: 0 Status: OK PackageFile: MSnbase_2.32.0.tar.gz PackageFileSize: 3.992 MiB