Package: MSnbase Version: 2.32.0 Command: rm -rf MSnbase.buildbin-libdir && mkdir MSnbase.buildbin-libdir && F:\biocbuild\bbs-3.20-bioc\R\bin\R.exe CMD INSTALL --build --library=MSnbase.buildbin-libdir MSnbase_2.32.0.tar.gz StartedAt: 2025-04-01 08:41:46 -0400 (Tue, 01 Apr 2025) EndedAt: 2025-04-01 08:45:51 -0400 (Tue, 01 Apr 2025) EllapsedTime: 244.9 seconds RetCode: 0 Status: OK PackageFile: MSnbase_2.32.0.zip PackageFileSize: 7.093 MiB