Package: MSnbase Version: 2.32.0 Command: /home/biocbuild/bbs-3.20-bioc/R/bin/R CMD INSTALL MSnbase StartedAt: 2025-03-31 15:38:50 -0400 (Mon, 31 Mar 2025) EndedAt: 2025-03-31 15:39:59 -0400 (Mon, 31 Mar 2025) EllapsedTime: 69.0 seconds RetCode: 0 Status: OK