Package: MSnbase Version: 2.32.0 Command: /home/biocbuild/bbs-3.20-bioc/R/bin/R CMD check --install=check:MSnbase.install-out.txt --library=/home/biocbuild/bbs-3.20-bioc/R/site-library --timings MSnbase_2.32.0.tar.gz StartedAt: 2025-01-31 00:17:50 -0500 (Fri, 31 Jan 2025) EndedAt: 2025-01-31 00:34:39 -0500 (Fri, 31 Jan 2025) EllapsedTime: 1009.1 seconds RetCode: 0 Status: OK CheckDir: MSnbase.Rcheck Warnings: 0