Package: MSnbase Version: 2.32.0 Command: /Library/Frameworks/R.framework/Resources/bin/R CMD INSTALL MSnbase StartedAt: 2025-01-27 16:06:26 -0500 (Mon, 27 Jan 2025) EndedAt: 2025-01-27 16:09:08 -0500 (Mon, 27 Jan 2025) EllapsedTime: 161.6 seconds RetCode: 0 Status: OK