Package: MSnID Version: 1.40.0 Command: rm -rf MSnID.buildbin-libdir && mkdir MSnID.buildbin-libdir && F:\biocbuild\bbs-3.20-bioc\R\bin\R.exe CMD INSTALL --build --library=MSnID.buildbin-libdir MSnID_1.40.0.tar.gz StartedAt: 2025-02-04 09:00:24 -0500 (Tue, 04 Feb 2025) EndedAt: 2025-02-04 09:01:51 -0500 (Tue, 04 Feb 2025) EllapsedTime: 87.2 seconds RetCode: 0 Status: OK PackageFile: MSnID_1.40.0.zip PackageFileSize: 4.072 MiB