Package: MSnID Version: 1.40.0 Command: /home/biocbuild/bbs-3.20-bioc/R/bin/R CMD build --keep-empty-dirs --no-resave-data --md5 MSnID StartedAt: 2025-02-10 18:16:08 -0500 (Mon, 10 Feb 2025) EndedAt: 2025-02-10 18:18:06 -0500 (Mon, 10 Feb 2025) EllapsedTime: 118.1 seconds RetCode: 0 Status: OK PackageFile: MSnID_1.40.0.tar.gz PackageFileSize: 3.005 MiB