Package: MSnID Version: 1.40.0 Command: /Library/Frameworks/R.framework/Resources/bin/R CMD check --install=check:MSnID.install-out.txt --library=/Library/Frameworks/R.framework/Resources/library --no-vignettes --timings MSnID_1.40.0.tar.gz StartedAt: 2024-11-09 07:59:13 -0500 (Sat, 09 Nov 2024) EndedAt: 2024-11-09 08:05:17 -0500 (Sat, 09 Nov 2024) EllapsedTime: 363.4 seconds RetCode: 1 Status: ERROR CheckDir: MSnID.Rcheck Warnings: NA