Package: MSPrep Version: 1.16.0 Command: /home/biocbuild/bbs-3.20-bioc/R/bin/R CMD check --install=check:MSPrep.install-out.txt --library=/home/biocbuild/bbs-3.20-bioc/R/site-library --timings MSPrep_1.16.0.tar.gz StartedAt: 2024-11-20 06:18:30 -0500 (Wed, 20 Nov 2024) EndedAt: 2024-11-20 06:27:27 -0500 (Wed, 20 Nov 2024) EllapsedTime: 536.3 seconds RetCode: 0 Status: OK CheckDir: MSPrep.Rcheck Warnings: 0