Package: MSPrep Version: 1.16.0 Command: /home/biocbuild/R/R/bin/R CMD build --keep-empty-dirs --no-resave-data MSPrep StartedAt: 2025-02-04 01:14:22 -0000 (Tue, 04 Feb 2025) EndedAt: 2025-02-04 01:17:25 -0000 (Tue, 04 Feb 2025) EllapsedTime: 183.1 seconds RetCode: 0 Status: OK PackageFile: MSPrep_1.16.0.tar.gz PackageFileSize: 1.64 MiB