Package: MSPrep Version: 1.16.0 Command: F:\biocbuild\bbs-3.20-bioc\R\bin\R.exe CMD INSTALL MSPrep StartedAt: 2025-03-31 16:58:21 -0400 (Mon, 31 Mar 2025) EndedAt: 2025-03-31 16:59:03 -0400 (Mon, 31 Mar 2025) EllapsedTime: 42.1 seconds RetCode: 0 Status: OK