Package: MSPrep Version: 1.16.0 Command: /Library/Frameworks/R.framework/Resources/bin/R CMD INSTALL MSPrep StartedAt: 2025-03-31 16:31:28 -0400 (Mon, 31 Mar 2025) EndedAt: 2025-03-31 16:32:36 -0400 (Mon, 31 Mar 2025) EllapsedTime: 68.0 seconds RetCode: 0 Status: OK