Package: MSPrep Version: 1.16.0 Command: /Library/Frameworks/R.framework/Resources/bin/R CMD INSTALL MSPrep StartedAt: 2025-01-27 18:03:35 -0500 (Mon, 27 Jan 2025) EndedAt: 2025-01-27 18:04:14 -0500 (Mon, 27 Jan 2025) EllapsedTime: 38.3 seconds RetCode: 0 Status: OK