Package: MSPrep Version: 1.16.0 Command: /Library/Frameworks/R.framework/Resources/bin/R CMD check --install=check:MSPrep.install-out.txt --library=/Library/Frameworks/R.framework/Resources/library --no-vignettes --timings MSPrep_1.16.0.tar.gz StartedAt: 2025-04-02 01:59:42 -0400 (Wed, 02 Apr 2025) EndedAt: 2025-04-02 02:08:16 -0400 (Wed, 02 Apr 2025) EllapsedTime: 513.3 seconds RetCode: 1 Status: ERROR CheckDir: MSPrep.Rcheck Warnings: NA