Package: MSPrep Version: 1.16.0 Command: /Library/Frameworks/R.framework/Resources/bin/R CMD build --keep-empty-dirs --no-resave-data MSPrep StartedAt: 2025-01-28 04:03:40 -0500 (Tue, 28 Jan 2025) EndedAt: 2025-01-28 04:06:25 -0500 (Tue, 28 Jan 2025) EllapsedTime: 164.9 seconds RetCode: 0 Status: OK PackageFile: MSPrep_1.16.0.tar.gz PackageFileSize: 1.573 MiB