Package: MSA2dist Version: 1.10.1 Command: /home/biocbuild/R/R/bin/R CMD check --install=check:MSA2dist.install-out.txt --library=/home/biocbuild/R/R/site-library --no-vignettes --timings MSA2dist_1.10.1.tar.gz StartedAt: 2025-04-01 08:35:47 -0000 (Tue, 01 Apr 2025) EndedAt: 2025-04-01 09:15:48 -0000 (Tue, 01 Apr 2025) EllapsedTime: 2400.9 seconds RetCode: None Status: TIMEOUT CheckDir: MSA2dist.Rcheck Warnings: NA