Package: MSA2dist Version: 1.10.1 Command: rm -rf MSA2dist.buildbin-libdir && mkdir MSA2dist.buildbin-libdir && F:\biocbuild\bbs-3.20-bioc\R\bin\R.exe CMD INSTALL --build --library=MSA2dist.buildbin-libdir MSA2dist_1.10.1.tar.gz StartedAt: 2025-01-31 09:06:31 -0500 (Fri, 31 Jan 2025) EndedAt: 2025-01-31 09:08:02 -0500 (Fri, 31 Jan 2025) EllapsedTime: 91.8 seconds RetCode: 0 Status: OK PackageFile: MSA2dist_1.10.1.zip PackageFileSize: 1.271 MiB