Package: MQmetrics Version: 1.14.0 Command: /Library/Frameworks/R.framework/Resources/bin/R CMD build --keep-empty-dirs --no-resave-data MQmetrics StartedAt: 2025-04-01 03:45:06 -0400 (Tue, 01 Apr 2025) EndedAt: 2025-04-01 03:45:22 -0400 (Tue, 01 Apr 2025) EllapsedTime: 15.9 seconds RetCode: 1 Status: ERROR PackageFile: None PackageFileSize: NA