Package: MPRAnalyze Version: 1.24.0 Command: /home/biocbuild/R/R/bin/R CMD build --keep-empty-dirs --no-resave-data MPRAnalyze StartedAt: 2025-01-31 01:08:17 -0000 (Fri, 31 Jan 2025) EndedAt: 2025-01-31 01:09:55 -0000 (Fri, 31 Jan 2025) EllapsedTime: 98.0 seconds RetCode: 0 Status: OK PackageFile: MPRAnalyze_1.24.0.tar.gz PackageFileSize: 416.9 KiB