Package: MPFE Version: 1.42.0 Command: /home/biocbuild/R/R/bin/R CMD build --keep-empty-dirs --no-resave-data MPFE StartedAt: 2025-01-28 01:45:15 -0000 (Tue, 28 Jan 2025) EndedAt: 2025-01-28 01:45:20 -0000 (Tue, 28 Jan 2025) EllapsedTime: 5.0 seconds RetCode: 0 Status: OK PackageFile: MPFE_1.42.0.tar.gz PackageFileSize: 183.1 KiB