Package: MPFE Version: 1.42.0 Command: F:\biocbuild\bbs-3.20-bioc\R\bin\R.exe CMD check --no-multiarch --install=check:MPFE.install-out.txt --library=F:\biocbuild\bbs-3.20-bioc\R\library --no-vignettes --timings MPFE_1.42.0.tar.gz StartedAt: 2025-01-28 03:43:10 -0500 (Tue, 28 Jan 2025) EndedAt: 2025-01-28 03:43:38 -0500 (Tue, 28 Jan 2025) EllapsedTime: 28.0 seconds RetCode: 0 Status: OK CheckDir: MPFE.Rcheck Warnings: 0