Package: MPFE Version: 1.42.0 Command: /Library/Frameworks/R.framework/Resources/bin/R CMD INSTALL MPFE StartedAt: 2025-01-27 15:04:22 -0500 (Mon, 27 Jan 2025) EndedAt: 2025-01-27 15:04:25 -0500 (Mon, 27 Jan 2025) EllapsedTime: 2.6 seconds RetCode: 0 Status: OK