Package: MPFE Version: 1.42.0 Command: /Library/Frameworks/R.framework/Resources/bin/R CMD check --install=check:MPFE.install-out.txt --library=/Library/Frameworks/R.framework/Resources/library --no-vignettes --timings MPFE_1.42.0.tar.gz StartedAt: 2025-01-29 01:57:41 -0500 (Wed, 29 Jan 2025) EndedAt: 2025-01-29 01:58:04 -0500 (Wed, 29 Jan 2025) EllapsedTime: 23.9 seconds RetCode: 0 Status: OK CheckDir: MPFE.Rcheck Warnings: 0