Package: MPAC Version: 1.0.0 Command: /home/biocbuild/bbs-3.20-bioc/R/bin/R CMD INSTALL MPAC StartedAt: 2025-03-31 15:54:40 -0400 (Mon, 31 Mar 2025) EndedAt: 2025-03-31 15:55:07 -0400 (Mon, 31 Mar 2025) EllapsedTime: 27.4 seconds RetCode: 0 Status: OK