Package: MOSim Version: 2.2.0 Command: rm -rf MOSim.buildbin-libdir && mkdir MOSim.buildbin-libdir && F:\biocbuild\bbs-3.20-bioc\R\bin\R.exe CMD INSTALL --build --library=MOSim.buildbin-libdir MOSim_2.2.0.tar.gz StartedAt: 2025-02-04 08:58:43 -0500 (Tue, 04 Feb 2025) EndedAt: 2025-02-04 08:59:50 -0500 (Tue, 04 Feb 2025) EllapsedTime: 66.7 seconds RetCode: 0 Status: OK PackageFile: MOSim_2.2.0.zip PackageFileSize: 6.759 MiB