Package: MOSim Version: 2.2.0 Command: /home/biocbuild/bbs-3.20-bioc/R/bin/R CMD INSTALL MOSim StartedAt: 2025-01-27 16:47:35 -0500 (Mon, 27 Jan 2025) EndedAt: 2025-01-27 16:48:24 -0500 (Mon, 27 Jan 2025) EllapsedTime: 48.5 seconds RetCode: 0 Status: OK