Package: MOSim Version: 2.2.0 Command: /home/biocbuild/bbs-3.20-bioc/R/bin/R CMD build --keep-empty-dirs --no-resave-data --md5 MOSim StartedAt: 2025-01-27 19:05:18 -0500 (Mon, 27 Jan 2025) EndedAt: 2025-01-27 19:11:10 -0500 (Mon, 27 Jan 2025) EllapsedTime: 351.4 seconds RetCode: 0 Status: OK PackageFile: MOSim_2.2.0.tar.gz PackageFileSize: 5.94 MiB