Package: MOSim Version: 2.2.0 Command: /Library/Frameworks/R.framework/Resources/bin/R CMD check --install=check:MOSim.install-out.txt --library=/Library/Frameworks/R.framework/Resources/library --no-vignettes --timings MOSim_2.2.0.tar.gz StartedAt: 2025-04-01 05:56:16 -0400 (Tue, 01 Apr 2025) EndedAt: 2025-04-01 06:24:16 -0400 (Tue, 01 Apr 2025) EllapsedTime: 1680.4 seconds RetCode: 0 Status: WARNINGS CheckDir: MOSim.Rcheck Warnings: 1