Package: MOSim Version: 2.2.0 Command: rm -rf MOSim.buildbin-libdir && mkdir MOSim.buildbin-libdir && /Users/biocbuild/BBS/utils/build-universal.sh MOSim_2.2.0.tar.gz /Library/Frameworks/R.framework/Resources/bin/R MOSim.buildbin-libdir StartedAt: 2024-11-20 04:37:49 -0500 (Wed, 20 Nov 2024) EndedAt: 2024-11-20 04:38:50 -0500 (Wed, 20 Nov 2024) EllapsedTime: 61.7 seconds RetCode: 0 Status: OK PackageFile: MOSim_2.2.0.tgz PackageFileSize: 6.446 MiB