Package: MOSim Version: 2.2.0 Command: /Library/Frameworks/R.framework/Resources/bin/R CMD INSTALL MOSim StartedAt: 2025-01-27 17:53:33 -0500 (Mon, 27 Jan 2025) EndedAt: 2025-01-27 17:54:21 -0500 (Mon, 27 Jan 2025) EllapsedTime: 48.9 seconds RetCode: 0 Status: OK