Package: MOMA Version: 1.18.0 Command: /home/biocbuild/R/R/bin/R CMD INSTALL MOMA StartedAt: 2025-03-31 20:39:34 -0000 (Mon, 31 Mar 2025) EndedAt: 2025-03-31 20:40:12 -0000 (Mon, 31 Mar 2025) EllapsedTime: 38.7 seconds RetCode: 0 Status: OK