Package: MOMA Version: 1.18.0 Command: /home/biocbuild/R/R/bin/R CMD build --keep-empty-dirs --no-resave-data MOMA StartedAt: 2025-01-28 01:40:27 -0000 (Tue, 28 Jan 2025) EndedAt: 2025-01-28 01:42:37 -0000 (Tue, 28 Jan 2025) EllapsedTime: 130.1 seconds RetCode: 0 Status: OK PackageFile: MOMA_1.18.0.tar.gz PackageFileSize: 4.254 MiB