Package: MOMA Version: 1.18.0 Command: chmod a+r MOMA -R && F:\biocbuild\bbs-3.20-bioc\R\bin\R.exe CMD build --keep-empty-dirs --no-resave-data MOMA StartedAt: 2025-01-27 20:16:30 -0500 (Mon, 27 Jan 2025) EndedAt: 2025-01-27 20:19:46 -0500 (Mon, 27 Jan 2025) EllapsedTime: 195.9 seconds RetCode: 0 Status: OK PackageFile: MOMA_1.18.0.tar.gz PackageFileSize: 4.222 MiB