Package: MOMA Version: 1.18.0 Command: rm -rf MOMA.buildbin-libdir && mkdir MOMA.buildbin-libdir && F:\biocbuild\bbs-3.20-bioc\R\bin\R.exe CMD INSTALL --build --library=MOMA.buildbin-libdir MOMA_1.18.0.tar.gz StartedAt: 2025-01-28 08:36:36 -0500 (Tue, 28 Jan 2025) EndedAt: 2025-01-28 08:37:27 -0500 (Tue, 28 Jan 2025) EllapsedTime: 50.2 seconds RetCode: 0 Status: OK PackageFile: MOMA_1.18.0.zip PackageFileSize: 5.237 MiB