Package: MOMA Version: 1.17.0 Command: chmod a+r MOMA -R && F:\biocbuild\bbs-3.20-bioc\R\bin\R.exe CMD build --keep-empty-dirs --no-resave-data MOMA StartedAt: 2024-06-09 20:24:26 -0400 (Sun, 09 Jun 2024) EndedAt: 2024-06-09 20:27:36 -0400 (Sun, 09 Jun 2024) EllapsedTime: 190.1 seconds RetCode: 0 Status: OK PackageFile: MOMA_1.17.0.tar.gz PackageFileSize: 4.222 MiB