Package: MOMA Version: 1.18.0 Command: /home/biocbuild/bbs-3.20-bioc/R/bin/R CMD INSTALL MOMA StartedAt: 2025-02-03 15:35:36 -0500 (Mon, 03 Feb 2025) EndedAt: 2025-02-03 15:36:05 -0500 (Mon, 03 Feb 2025) EllapsedTime: 29.5 seconds RetCode: 0 Status: OK