Package: MOMA Version: 1.18.0 Command: /Library/Frameworks/R.framework/Resources/bin/R CMD INSTALL MOMA StartedAt: 2025-01-27 15:53:27 -0500 (Mon, 27 Jan 2025) EndedAt: 2025-01-27 15:54:36 -0500 (Mon, 27 Jan 2025) EllapsedTime: 68.9 seconds RetCode: 0 Status: OK