Package: MOMA Version: 1.18.0 Command: /Library/Frameworks/R.framework/Resources/bin/R CMD build --keep-empty-dirs --no-resave-data MOMA StartedAt: 2025-01-28 03:43:07 -0500 (Tue, 28 Jan 2025) EndedAt: 2025-01-28 03:45:24 -0500 (Tue, 28 Jan 2025) EllapsedTime: 137.0 seconds RetCode: 0 Status: OK PackageFile: MOMA_1.18.0.tar.gz PackageFileSize: 4.263 MiB