Package: MOMA Version: 1.18.0 Command: rm -rf MOMA.buildbin-libdir && mkdir MOMA.buildbin-libdir && /Users/biocbuild/BBS/utils/build-universal.sh MOMA_1.18.0.tar.gz /Library/Frameworks/R.framework/Resources/bin/R MOMA.buildbin-libdir StartedAt: 2025-02-05 16:44:15 -0500 (Wed, 05 Feb 2025) EndedAt: 2025-02-05 16:45:01 -0500 (Wed, 05 Feb 2025) EllapsedTime: 46.3 seconds RetCode: 0 Status: OK PackageFile: MOMA_1.18.0.tgz PackageFileSize: 5.346 MiB